BEGIN:VCALENDAR
VERSION:2.0
PRODID:-//Lake Marcel Community Club - ECPv6.15.20//NONSGML v1.0//EN
CALSCALE:GREGORIAN
METHOD:PUBLISH
X-WR-CALNAME:Lake Marcel Community Club
X-ORIGINAL-URL:https://lakemarcel.net
X-WR-CALDESC:Events for Lake Marcel Community Club
REFRESH-INTERVAL;VALUE=DURATION:PT1H
X-Robots-Tag:noindex
X-PUBLISHED-TTL:PT1H
BEGIN:VTIMEZONE
TZID:America/Los_Angeles
BEGIN:DAYLIGHT
TZOFFSETFROM:-0800
TZOFFSETTO:-0700
TZNAME:PDT
DTSTART:20210314T100000
END:DAYLIGHT
BEGIN:STANDARD
TZOFFSETFROM:-0700
TZOFFSETTO:-0800
TZNAME:PST
DTSTART:20211107T090000
END:STANDARD
BEGIN:DAYLIGHT
TZOFFSETFROM:-0800
TZOFFSETTO:-0700
TZNAME:PDT
DTSTART:20220313T100000
END:DAYLIGHT
BEGIN:STANDARD
TZOFFSETFROM:-0700
TZOFFSETTO:-0800
TZNAME:PST
DTSTART:20221106T090000
END:STANDARD
BEGIN:DAYLIGHT
TZOFFSETFROM:-0800
TZOFFSETTO:-0700
TZNAME:PDT
DTSTART:20230312T100000
END:DAYLIGHT
BEGIN:STANDARD
TZOFFSETFROM:-0700
TZOFFSETTO:-0800
TZNAME:PST
DTSTART:20231105T090000
END:STANDARD
END:VTIMEZONE
BEGIN:VEVENT
DTSTART;TZID=America/Los_Angeles:20220703T213000
DTEND;TZID=America/Los_Angeles:20220703T233000
DTSTAMP:20260422T104943
CREATED:20220628T033250Z
LAST-MODIFIED:20220628T033250Z
UID:3301-1656883800-1656891000@lakemarcel.net
SUMMARY:Outdoor movie night
DESCRIPTION:Family-friendly movie at Beach 1!
URL:https://lakemarcel.net/event/outdoor-movie-night/
CATEGORIES:Community Event
END:VEVENT
BEGIN:VEVENT
DTSTART;VALUE=DATE:20220704
DTEND;VALUE=DATE:20220705
DTSTAMP:20260422T104943
CREATED:20220628T033134Z
LAST-MODIFIED:20220628T033134Z
UID:3299-1656892800-1656979199@lakemarcel.net
SUMMARY:LMCC Independence Day Celebration!
DESCRIPTION:See Events page for details!
URL:https://lakemarcel.net/event/lmcc-independence-day-celebration/
CATEGORIES:Community Event
END:VEVENT
BEGIN:VEVENT
DTSTART;TZID=America/Los_Angeles:20220730T090000
DTEND;TZID=America/Los_Angeles:20220730T170000
DTSTAMP:20260422T104943
CREATED:20220713T203407Z
LAST-MODIFIED:20220713T203407Z
UID:3339-1659171600-1659200400@lakemarcel.net
SUMMARY:Community Garage Sale
DESCRIPTION:
URL:https://lakemarcel.net/event/community-garage-sale-2/
CATEGORIES:Community Event
END:VEVENT
END:VCALENDAR