BEGIN:VCALENDAR
VERSION:2.0
PRODID:-//Lake Marcel Community Club - ECPv6.15.20//NONSGML v1.0//EN
CALSCALE:GREGORIAN
METHOD:PUBLISH
X-ORIGINAL-URL:https://lakemarcel.net
X-WR-CALDESC:Events for Lake Marcel Community Club
REFRESH-INTERVAL;VALUE=DURATION:PT1H
X-Robots-Tag:noindex
X-PUBLISHED-TTL:PT1H
BEGIN:VTIMEZONE
TZID:America/Los_Angeles
BEGIN:DAYLIGHT
TZOFFSETFROM:-0800
TZOFFSETTO:-0700
TZNAME:PDT
DTSTART:20230312T100000
END:DAYLIGHT
BEGIN:STANDARD
TZOFFSETFROM:-0700
TZOFFSETTO:-0800
TZNAME:PST
DTSTART:20231105T090000
END:STANDARD
BEGIN:DAYLIGHT
TZOFFSETFROM:-0800
TZOFFSETTO:-0700
TZNAME:PDT
DTSTART:20240310T100000
END:DAYLIGHT
BEGIN:STANDARD
TZOFFSETFROM:-0700
TZOFFSETTO:-0800
TZNAME:PST
DTSTART:20241103T090000
END:STANDARD
BEGIN:DAYLIGHT
TZOFFSETFROM:-0800
TZOFFSETTO:-0700
TZNAME:PDT
DTSTART:20250309T100000
END:DAYLIGHT
BEGIN:STANDARD
TZOFFSETFROM:-0700
TZOFFSETTO:-0800
TZNAME:PST
DTSTART:20251102T090000
END:STANDARD
END:VTIMEZONE
BEGIN:VEVENT
DTSTART;TZID=America/Los_Angeles:20240727T090000
DTEND;TZID=America/Los_Angeles:20240727T150000
DTSTAMP:20260420T135702
CREATED:20240717T005424Z
LAST-MODIFIED:20240717T005424Z
UID:3862-1722070800-1722092400@lakemarcel.net
SUMMARY:LMCC Garage Sale
DESCRIPTION:  \nShare with your friends\, family\, and neighbors.
URL:https://lakemarcel.net/event/lmcc-garage-sale-3/
CATEGORIES:Community Event
END:VEVENT
BEGIN:VEVENT
DTSTART;TZID=America/Los_Angeles:20240728T090000
DTEND;TZID=America/Los_Angeles:20240728T150000
DTSTAMP:20260420T135702
CREATED:20240717T005100Z
LAST-MODIFIED:20240717T005100Z
UID:3856-1722157200-1722178800@lakemarcel.net
SUMMARY:LMCC Garage Sale
DESCRIPTION:  \nShare with your friends\, family\, and neighbors.
URL:https://lakemarcel.net/event/lmcc-garage-sale-2/
CATEGORIES:Community Event
END:VEVENT
END:VCALENDAR