BEGIN:VCALENDAR
VERSION:2.0
PRODID:-//Lake Marcel Community Club - ECPv6.15.20//NONSGML v1.0//EN
CALSCALE:GREGORIAN
METHOD:PUBLISH
X-WR-CALNAME:Lake Marcel Community Club
X-ORIGINAL-URL:https://lakemarcel.net
X-WR-CALDESC:Events for Lake Marcel Community Club
REFRESH-INTERVAL;VALUE=DURATION:PT1H
X-Robots-Tag:noindex
X-PUBLISHED-TTL:PT1H
BEGIN:VTIMEZONE
TZID:America/Los_Angeles
BEGIN:DAYLIGHT
TZOFFSETFROM:-0800
TZOFFSETTO:-0700
TZNAME:PDT
DTSTART:20240310T100000
END:DAYLIGHT
BEGIN:STANDARD
TZOFFSETFROM:-0700
TZOFFSETTO:-0800
TZNAME:PST
DTSTART:20241103T090000
END:STANDARD
BEGIN:DAYLIGHT
TZOFFSETFROM:-0800
TZOFFSETTO:-0700
TZNAME:PDT
DTSTART:20250309T100000
END:DAYLIGHT
BEGIN:STANDARD
TZOFFSETFROM:-0700
TZOFFSETTO:-0800
TZNAME:PST
DTSTART:20251102T090000
END:STANDARD
BEGIN:DAYLIGHT
TZOFFSETFROM:-0800
TZOFFSETTO:-0700
TZNAME:PDT
DTSTART:20260308T100000
END:DAYLIGHT
BEGIN:STANDARD
TZOFFSETFROM:-0700
TZOFFSETTO:-0800
TZNAME:PST
DTSTART:20261101T090000
END:STANDARD
END:VTIMEZONE
BEGIN:VEVENT
DTSTART;TZID=America/Los_Angeles:20250608T080000
DTEND;TZID=America/Los_Angeles:20250608T160000
DTSTAMP:20260419T182844
CREATED:20250508T153345Z
LAST-MODIFIED:20250508T153345Z
UID:5957-1749369600-1749398400@lakemarcel.net
SUMMARY:Family Fishing Day
DESCRIPTION:See signs around the neighborhood for details.
URL:https://lakemarcel.net/event/family-fishing-day-4/
LOCATION:Beach 1
CATEGORIES:Community Event
ORGANIZER;CN="LMCC":MAILTO:ADMIN@LAKEMARCEL.NET
END:VEVENT
BEGIN:VEVENT
DTSTART;TZID=America/Los_Angeles:20250608T190000
DTEND;TZID=America/Los_Angeles:20250608T200000
DTSTAMP:20260419T182844
CREATED:20250204T193527Z
LAST-MODIFIED:20250204T193527Z
UID:5935-1749409200-1749412800@lakemarcel.net
SUMMARY:Community Events June monthly meeting
DESCRIPTION:Click here to join the monthly meeting via Teams
URL:https://lakemarcel.net/event/community-events-june-monthly-meeting/
LOCATION:Online Via Teams
CATEGORIES:Community Event
END:VEVENT
END:VCALENDAR