BEGIN:VCALENDAR
VERSION:2.0
PRODID:-//Lake Marcel Community Club - ECPv6.15.20//NONSGML v1.0//EN
CALSCALE:GREGORIAN
METHOD:PUBLISH
X-ORIGINAL-URL:https://lakemarcel.net
X-WR-CALDESC:Events for Lake Marcel Community Club
REFRESH-INTERVAL;VALUE=DURATION:PT1H
X-Robots-Tag:noindex
X-PUBLISHED-TTL:PT1H
BEGIN:VTIMEZONE
TZID:America/Los_Angeles
BEGIN:DAYLIGHT
TZOFFSETFROM:-0800
TZOFFSETTO:-0700
TZNAME:PDT
DTSTART:20240310T100000
END:DAYLIGHT
BEGIN:STANDARD
TZOFFSETFROM:-0700
TZOFFSETTO:-0800
TZNAME:PST
DTSTART:20241103T090000
END:STANDARD
BEGIN:DAYLIGHT
TZOFFSETFROM:-0800
TZOFFSETTO:-0700
TZNAME:PDT
DTSTART:20250309T100000
END:DAYLIGHT
BEGIN:STANDARD
TZOFFSETFROM:-0700
TZOFFSETTO:-0800
TZNAME:PST
DTSTART:20251102T090000
END:STANDARD
BEGIN:DAYLIGHT
TZOFFSETFROM:-0800
TZOFFSETTO:-0700
TZNAME:PDT
DTSTART:20260308T100000
END:DAYLIGHT
BEGIN:STANDARD
TZOFFSETFROM:-0700
TZOFFSETTO:-0800
TZNAME:PST
DTSTART:20261101T090000
END:STANDARD
END:VTIMEZONE
BEGIN:VEVENT
DTSTART;TZID=America/Los_Angeles:20250704T120000
DTEND;TZID=America/Los_Angeles:20250704T170000
DTSTAMP:20260419T183152
CREATED:20250409T205119Z
LAST-MODIFIED:20250409T205119Z
UID:4207-1751630400-1751648400@lakemarcel.net
SUMMARY:4th of July Celebration
DESCRIPTION:Save the date for the annual 4th of July Celebration. We NEED volunteers to make this event happen. Please consider helping with planning the rentals\, artists\, food/potluck\, parade with bike decorations and fire department request\, decorations\, clean up\, trash\, grilling\, etc… \n \nLMCC 4th of July flier 2025
URL:https://lakemarcel.net/event/4th-of-july-celebration/
LOCATION:Beach1 Grass/Field
CATEGORIES:Community Event
ORGANIZER;CN="LMCC":MAILTO:ADMIN@LAKEMARCEL.NET
END:VEVENT
END:VCALENDAR