BEGIN:VCALENDAR
VERSION:2.0
PRODID:-//Lake Marcel Community Club - ECPv6.15.20//NONSGML v1.0//EN
CALSCALE:GREGORIAN
METHOD:PUBLISH
X-WR-CALNAME:Lake Marcel Community Club
X-ORIGINAL-URL:https://lakemarcel.net
X-WR-CALDESC:Events for Lake Marcel Community Club
REFRESH-INTERVAL;VALUE=DURATION:PT1H
X-Robots-Tag:noindex
X-PUBLISHED-TTL:PT1H
BEGIN:VTIMEZONE
TZID:America/Los_Angeles
BEGIN:DAYLIGHT
TZOFFSETFROM:-0800
TZOFFSETTO:-0700
TZNAME:PDT
DTSTART:20240310T100000
END:DAYLIGHT
BEGIN:STANDARD
TZOFFSETFROM:-0700
TZOFFSETTO:-0800
TZNAME:PST
DTSTART:20241103T090000
END:STANDARD
BEGIN:DAYLIGHT
TZOFFSETFROM:-0800
TZOFFSETTO:-0700
TZNAME:PDT
DTSTART:20250309T100000
END:DAYLIGHT
BEGIN:STANDARD
TZOFFSETFROM:-0700
TZOFFSETTO:-0800
TZNAME:PST
DTSTART:20251102T090000
END:STANDARD
BEGIN:DAYLIGHT
TZOFFSETFROM:-0800
TZOFFSETTO:-0700
TZNAME:PDT
DTSTART:20260308T100000
END:DAYLIGHT
BEGIN:STANDARD
TZOFFSETFROM:-0700
TZOFFSETTO:-0800
TZNAME:PST
DTSTART:20261101T090000
END:STANDARD
END:VTIMEZONE
BEGIN:VEVENT
DTSTART;TZID=America/Los_Angeles:20250419T100000
DTEND;TZID=America/Los_Angeles:20250419T110000
DTSTAMP:20260420T221303
CREATED:20250204T193125Z
LAST-MODIFIED:20250204T193125Z
UID:5933-1745056800-1745060400@lakemarcel.net
SUMMARY:Easter Egg Hunt 2025
DESCRIPTION:Save the date for the annual Lake Marcel Easter Egg Hunt at Beach One. More details to come. If you would like to volunteer or donate to the event\, please email admin@lakemarcel.net \neaster-egg-hunt_flier
URL:https://lakemarcel.net/event/save-the-date-easter-egg-hunt-2025/
LOCATION:Beach1 Grass/Field
CATEGORIES:Community Event
END:VEVENT
BEGIN:VEVENT
DTSTART;TZID=America/Los_Angeles:20250504T190000
DTEND;TZID=America/Los_Angeles:20250504T200000
DTSTAMP:20260420T221303
CREATED:20250204T193303Z
LAST-MODIFIED:20250204T193303Z
UID:5934-1746385200-1746388800@lakemarcel.net
SUMMARY:Community Events May monthly meeting
DESCRIPTION:Click here to join the monthly meeting via Teams. Moving to the first Sunday of the month to avoid Mother’s Day.
URL:https://lakemarcel.net/event/community-events-may-monthly-meeting/
LOCATION:Online Via Teams
CATEGORIES:Community Event
END:VEVENT
BEGIN:VEVENT
DTSTART;TZID=America/Los_Angeles:20250608T080000
DTEND;TZID=America/Los_Angeles:20250608T160000
DTSTAMP:20260420T221303
CREATED:20250508T153345Z
LAST-MODIFIED:20250508T153345Z
UID:5957-1749369600-1749398400@lakemarcel.net
SUMMARY:Family Fishing Day
DESCRIPTION:See signs around the neighborhood for details.
URL:https://lakemarcel.net/event/family-fishing-day-4/
LOCATION:Beach 1
CATEGORIES:Community Event
ORGANIZER;CN="LMCC":MAILTO:ADMIN@LAKEMARCEL.NET
END:VEVENT
BEGIN:VEVENT
DTSTART;TZID=America/Los_Angeles:20250608T190000
DTEND;TZID=America/Los_Angeles:20250608T200000
DTSTAMP:20260420T221303
CREATED:20250204T193527Z
LAST-MODIFIED:20250204T193527Z
UID:5935-1749409200-1749412800@lakemarcel.net
SUMMARY:Community Events June monthly meeting
DESCRIPTION:Click here to join the monthly meeting via Teams
URL:https://lakemarcel.net/event/community-events-june-monthly-meeting/
LOCATION:Online Via Teams
CATEGORIES:Community Event
END:VEVENT
BEGIN:VEVENT
DTSTART;TZID=America/Los_Angeles:20250704T120000
DTEND;TZID=America/Los_Angeles:20250704T170000
DTSTAMP:20260420T221303
CREATED:20250409T205119Z
LAST-MODIFIED:20250409T205119Z
UID:4207-1751630400-1751648400@lakemarcel.net
SUMMARY:4th of July Celebration
DESCRIPTION:Save the date for the annual 4th of July Celebration. We NEED volunteers to make this event happen. Please consider helping with planning the rentals\, artists\, food/potluck\, parade with bike decorations and fire department request\, decorations\, clean up\, trash\, grilling\, etc… \n \nLMCC 4th of July flier 2025
URL:https://lakemarcel.net/event/4th-of-july-celebration/
LOCATION:Beach1 Grass/Field
CATEGORIES:Community Event
ORGANIZER;CN="LMCC":MAILTO:ADMIN@LAKEMARCEL.NET
END:VEVENT
BEGIN:VEVENT
DTSTART;TZID=America/Los_Angeles:20250713T190000
DTEND;TZID=America/Los_Angeles:20250713T200000
DTSTAMP:20260420T221303
CREATED:20250204T193655Z
LAST-MODIFIED:20250204T193655Z
UID:5936-1752433200-1752436800@lakemarcel.net
SUMMARY:Community Events July monthly meeting
DESCRIPTION:Click here to join the monthly meeting via Teams
URL:https://lakemarcel.net/event/community-events-july-monthly-meeting/
CATEGORIES:Community Event
END:VEVENT
BEGIN:VEVENT
DTSTART;TZID=America/Los_Angeles:20250726T090000
DTEND;TZID=America/Los_Angeles:20250727T150000
DTSTAMP:20260420T221303
CREATED:20250508T153215Z
LAST-MODIFIED:20250508T153215Z
UID:5956-1753520400-1753628400@lakemarcel.net
SUMMARY:LMCC Annual Garage Sale
DESCRIPTION:Garage sale weekend. Pick up signs and arrows at the office at Beach one (please return them after). Tentative time each day is from 9-3PM. Share with local friends and family!
URL:https://lakemarcel.net/event/lmcc-annual-garage-sale/
LOCATION:Neighborhood Wide
CATEGORIES:Community Event
ORGANIZER;CN="LMCC":MAILTO:ADMIN@LAKEMARCEL.NET
END:VEVENT
BEGIN:VEVENT
DTSTART;TZID=America/Los_Angeles:20250810T190000
DTEND;TZID=America/Los_Angeles:20250810T200000
DTSTAMP:20260420T221303
CREATED:20250506T230010Z
LAST-MODIFIED:20250506T230010Z
UID:5951-1754852400-1754856000@lakemarcel.net
SUMMARY:Community Events monthly meeting
DESCRIPTION:Click here to join the monthly meeting via Teams
URL:https://lakemarcel.net/event/community-events-monthly-meeting-4/
CATEGORIES:Community Event
END:VEVENT
BEGIN:VEVENT
DTSTART;TZID=America/Los_Angeles:20250914T190000
DTEND;TZID=America/Los_Angeles:20250914T200000
DTSTAMP:20260420T221303
CREATED:20250506T234015Z
LAST-MODIFIED:20250506T234015Z
UID:5952-1757876400-1757880000@lakemarcel.net
SUMMARY:Community Events monthly meeting
DESCRIPTION:Click here to join the monthly meeting via Teams
URL:https://lakemarcel.net/event/community-events-monthly-meeting-5/
CATEGORIES:Community Event
END:VEVENT
BEGIN:VEVENT
DTSTART;TZID=America/Los_Angeles:20251012T190000
DTEND;TZID=America/Los_Angeles:20251012T200000
DTSTAMP:20260420T221303
CREATED:20250506T234228Z
LAST-MODIFIED:20250506T234228Z
UID:5953-1760295600-1760299200@lakemarcel.net
SUMMARY:Community Events monthly meeting
DESCRIPTION:Click here to join the monthly meeting via Teams
URL:https://lakemarcel.net/event/community-events-monthly-meeting-6/
CATEGORIES:Community Event
END:VEVENT
BEGIN:VEVENT
DTSTART;TZID=America/Los_Angeles:20251109T190000
DTEND;TZID=America/Los_Angeles:20251109T200000
DTSTAMP:20260420T221303
CREATED:20250506T234313Z
LAST-MODIFIED:20250506T234313Z
UID:5954-1762714800-1762718400@lakemarcel.net
SUMMARY:Community Events monthly meeting
DESCRIPTION:Click here to join the monthly meeting via Teams
URL:https://lakemarcel.net/event/community-events-monthly-meeting-7/
CATEGORIES:Community Event
END:VEVENT
BEGIN:VEVENT
DTSTART;TZID=America/Los_Angeles:20251214T190000
DTEND;TZID=America/Los_Angeles:20251214T200000
DTSTAMP:20260420T221303
CREATED:20250506T234404Z
LAST-MODIFIED:20250506T234404Z
UID:5955-1765738800-1765742400@lakemarcel.net
SUMMARY:Community Events monthly meeting
DESCRIPTION:Click here to join the monthly meeting via Teams
URL:https://lakemarcel.net/event/community-events-monthly-meeting-8/
CATEGORIES:Community Event
END:VEVENT
END:VCALENDAR