BEGIN:VCALENDAR
VERSION:2.0
PRODID:-//Lake Marcel Community Club - ECPv6.15.20//NONSGML v1.0//EN
CALSCALE:GREGORIAN
METHOD:PUBLISH
X-WR-CALNAME:Lake Marcel Community Club
X-ORIGINAL-URL:https://lakemarcel.net
X-WR-CALDESC:Events for Lake Marcel Community Club
REFRESH-INTERVAL;VALUE=DURATION:PT1H
X-Robots-Tag:noindex
X-PUBLISHED-TTL:PT1H
BEGIN:VTIMEZONE
TZID:America/Los_Angeles
BEGIN:DAYLIGHT
TZOFFSETFROM:-0800
TZOFFSETTO:-0700
TZNAME:PDT
DTSTART:20150308T100000
END:DAYLIGHT
BEGIN:STANDARD
TZOFFSETFROM:-0700
TZOFFSETTO:-0800
TZNAME:PST
DTSTART:20151101T090000
END:STANDARD
BEGIN:DAYLIGHT
TZOFFSETFROM:-0800
TZOFFSETTO:-0700
TZNAME:PDT
DTSTART:20160313T100000
END:DAYLIGHT
BEGIN:STANDARD
TZOFFSETFROM:-0700
TZOFFSETTO:-0800
TZNAME:PST
DTSTART:20161106T090000
END:STANDARD
BEGIN:DAYLIGHT
TZOFFSETFROM:-0800
TZOFFSETTO:-0700
TZNAME:PDT
DTSTART:20170312T100000
END:DAYLIGHT
BEGIN:STANDARD
TZOFFSETFROM:-0700
TZOFFSETTO:-0800
TZNAME:PST
DTSTART:20171105T090000
END:STANDARD
BEGIN:DAYLIGHT
TZOFFSETFROM:-0800
TZOFFSETTO:-0700
TZNAME:PDT
DTSTART:20180311T100000
END:DAYLIGHT
BEGIN:STANDARD
TZOFFSETFROM:-0700
TZOFFSETTO:-0800
TZNAME:PST
DTSTART:20181104T090000
END:STANDARD
BEGIN:DAYLIGHT
TZOFFSETFROM:-0800
TZOFFSETTO:-0700
TZNAME:PDT
DTSTART:20190310T100000
END:DAYLIGHT
BEGIN:STANDARD
TZOFFSETFROM:-0700
TZOFFSETTO:-0800
TZNAME:PST
DTSTART:20191103T090000
END:STANDARD
BEGIN:DAYLIGHT
TZOFFSETFROM:-0800
TZOFFSETTO:-0700
TZNAME:PDT
DTSTART:20200308T100000
END:DAYLIGHT
BEGIN:STANDARD
TZOFFSETFROM:-0700
TZOFFSETTO:-0800
TZNAME:PST
DTSTART:20201101T090000
END:STANDARD
END:VTIMEZONE
BEGIN:VEVENT
DTSTART;VALUE=DATE:20190704
DTEND;VALUE=DATE:20190705
DTSTAMP:20260419T115909
CREATED:20190625T072140Z
LAST-MODIFIED:20190625T072140Z
UID:2318-1562198400-1562284799@lakemarcel.net
SUMMARY:4th of July Potluck\, BBQ and Fireworks
DESCRIPTION:Volunteer at the event here.  See you on the 4th.
URL:https://lakemarcel.net/event/4th-of-july-potluck-bbq-and-fireworks/
CATEGORIES:Community Event
ATTACH;FMTTYPE=image/jpeg:https://lakemarcel.net/wp-content/uploads/2019/06/lmcc.jpg
END:VEVENT
BEGIN:VEVENT
DTSTART;TZID=America/Los_Angeles:20190420T100000
DTEND;TZID=America/Los_Angeles:20190420T120000
DTSTAMP:20260419T115909
CREATED:20190325T214422Z
LAST-MODIFIED:20190325T214422Z
UID:2265-1555754400-1555761600@lakemarcel.net
SUMMARY:Easter Egg Hunt
DESCRIPTION:
URL:https://lakemarcel.net/event/easter-egg-hunt/
LOCATION:Beach 1
CATEGORIES:Community Event
END:VEVENT
BEGIN:VEVENT
DTSTART;TZID=America/Los_Angeles:20190323T090000
DTEND;TZID=America/Los_Angeles:20190323T130000
DTSTAMP:20260419T115909
CREATED:20190318T000319Z
LAST-MODIFIED:20190318T000319Z
UID:2263-1553331600-1553346000@lakemarcel.net
SUMMARY:Adopt A Road
DESCRIPTION:Meet at Beach 1 at 9 a.m.
URL:https://lakemarcel.net/event/adopt-a-road-5/
CATEGORIES:Community Event
END:VEVENT
BEGIN:VEVENT
DTSTART;TZID=America/Los_Angeles:20181013T090000
DTEND;TZID=America/Los_Angeles:20181013T130000
DTSTAMP:20260419T115909
CREATED:20180926T220219Z
LAST-MODIFIED:20180926T220219Z
UID:2204-1539421200-1539435600@lakemarcel.net
SUMMARY:Adopt A Road
DESCRIPTION:Meet up at Beach 1. Dress for the weather.
URL:https://lakemarcel.net/event/adopt-a-road-4/
CATEGORIES:Community Event
END:VEVENT
BEGIN:VEVENT
DTSTART;TZID=America/Los_Angeles:20180721T090000
DTEND;TZID=America/Los_Angeles:20180721T150000
DTSTAMP:20260419T115909
CREATED:20180420T043727Z
LAST-MODIFIED:20180420T043727Z
UID:2132-1532163600-1532185200@lakemarcel.net
SUMMARY:LMCC Garage Sale
DESCRIPTION:Mark your calendars and get out your junk and let others find new treasures at our neighborhood garage sale. LMCC will do the advertising and put up the signs.
URL:https://lakemarcel.net/event/lmcc-garage-sale/
LOCATION:Neighborhood Wide
CATEGORIES:Community Event
END:VEVENT
BEGIN:VEVENT
DTSTART;VALUE=DATE:20180609
DTEND;VALUE=DATE:20180611
DTSTAMP:20260419T115909
CREATED:20180310T214729Z
LAST-MODIFIED:20180310T214729Z
UID:2128-1528502400-1528675199@lakemarcel.net
SUMMARY:Family Fishing Day
DESCRIPTION:
URL:https://lakemarcel.net/event/family-fishing-day/
CATEGORIES:Community Event
END:VEVENT
BEGIN:VEVENT
DTSTART;TZID=America/Los_Angeles:20180310T090000
DTEND;TZID=America/Los_Angeles:20180310T130000
DTSTAMP:20260419T115909
CREATED:20180219T232605Z
LAST-MODIFIED:20180219T232605Z
UID:2119-1520672400-1520686800@lakemarcel.net
SUMMARY:Adopt-a-Road
DESCRIPTION:Meet up at Beach 1
URL:https://lakemarcel.net/event/adopt-a-road-3/
CATEGORIES:Community Event
END:VEVENT
BEGIN:VEVENT
DTSTART;TZID=America/Los_Angeles:20171014T090000
DTEND;TZID=America/Los_Angeles:20171014T090000
DTSTAMP:20260419T115909
CREATED:20171004T180034Z
LAST-MODIFIED:20171004T180034Z
UID:2085-1507971600-1507971600@lakemarcel.net
SUMMARY:Adopt-a-Road
DESCRIPTION:Adopt-a-Road\, will meet at Beach 1 at 9:00 a.m.
URL:https://lakemarcel.net/event/adopt-a-road/
CATEGORIES:Community Event
END:VEVENT
BEGIN:VEVENT
DTSTART;VALUE=DATE:20170722
DTEND;VALUE=DATE:20170723
DTSTAMP:20260419T115909
CREATED:20170704T010947Z
LAST-MODIFIED:20170704T010947Z
UID:2045-1500681600-1500767999@lakemarcel.net
SUMMARY:LMCC Community Garage Sale
DESCRIPTION:
URL:https://lakemarcel.net/event/lmcc-community-garage-sale/
CATEGORIES:Community Event
END:VEVENT
BEGIN:VEVENT
DTSTART;TZID=America/Los_Angeles:20160723T080000
DTEND;TZID=America/Los_Angeles:20160723T170000
DTSTAMP:20260419T115909
CREATED:20160712T035633Z
LAST-MODIFIED:20160712T035633Z
UID:1446-1469260800-1469293200@lakemarcel.net
SUMMARY:LMCC Neighborhood Garage Sale
DESCRIPTION:
URL:https://lakemarcel.net/event/lmcc-neighborhood-garage-sale/
LOCATION:Neighborhood Wide
CATEGORIES:Community Event
END:VEVENT
BEGIN:VEVENT
DTSTART;VALUE=DATE:20160704
DTEND;VALUE=DATE:20160705
DTSTAMP:20260419T115909
CREATED:20160302T233517Z
LAST-MODIFIED:20160302T233517Z
UID:1108-1467590400-1467676799@lakemarcel.net
SUMMARY:4th of July at Beach/Park 1
DESCRIPTION:4th of July events from 3 – 7 PM & fireworks will begin at dusk.  Go to the event page for more details.
URL:https://lakemarcel.net/event/4th-of-july-at-beachpark-1/
LOCATION:Beach 1
CATEGORIES:Community Event
END:VEVENT
BEGIN:VEVENT
DTSTART;VALUE=DATE:20160703
DTEND;VALUE=DATE:20160704
DTSTAMP:20260419T115909
CREATED:20160507T044155Z
LAST-MODIFIED:20160507T044155Z
UID:1273-1467504000-1467590399@lakemarcel.net
SUMMARY:July 3rd Movie Night
DESCRIPTION:
URL:https://lakemarcel.net/event/july-3rd-movie-night/
LOCATION:Beach 1
CATEGORIES:Community Event
END:VEVENT
BEGIN:VEVENT
DTSTART;TZID=America/Los_Angeles:20160326T100000
DTEND;TZID=America/Los_Angeles:20160326T110000
DTSTAMP:20260419T115909
CREATED:20160308T064048Z
LAST-MODIFIED:20160308T064048Z
UID:1163-1458986400-1458990000@lakemarcel.net
SUMMARY:Annual Easter Egg Hunt
DESCRIPTION:We are getting close to our Annual Easter Egg Hunt! It is set for Saturday\, March 26th 10 am at Beach 1. This is a super-sweet event for our children that requires just a little community help.  \nWe are looking for: \n\nFolks to help stuff the Easter Eggs with yummy treats. (Time and place TBD)\nStealthy volunteers to help hide the Eggs and set up/decorate for the hunt on Saturday morning. (9 am at Beach 1)\nAn Easter bunny to be in our photo booth and hand out candy \nA photographer(s) to take pictures at the photo booth\nRace announcer\nHelp with refreshment table (brew coffee for the LMCC carafe\, make cider\, set up table)\n\nPlease contact the LMCC office\, or email me at: laura.davis@disney.com. I’d love to see you all! \nHere’s to Spring!\nLaura Davis
URL:https://lakemarcel.net/event/annual-easter-egg-hunt/
LOCATION:Beach 1
CATEGORIES:Community Event
END:VEVENT
END:VCALENDAR