BEGIN:VCALENDAR
VERSION:2.0
PRODID:-//Lake Marcel Community Club - ECPv6.15.20//NONSGML v1.0//EN
CALSCALE:GREGORIAN
METHOD:PUBLISH
X-ORIGINAL-URL:https://lakemarcel.net
X-WR-CALDESC:Events for Lake Marcel Community Club
REFRESH-INTERVAL;VALUE=DURATION:PT1H
X-Robots-Tag:noindex
X-PUBLISHED-TTL:PT1H
BEGIN:VTIMEZONE
TZID:America/Los_Angeles
BEGIN:DAYLIGHT
TZOFFSETFROM:-0800
TZOFFSETTO:-0700
TZNAME:PDT
DTSTART:20200308T100000
END:DAYLIGHT
BEGIN:STANDARD
TZOFFSETFROM:-0700
TZOFFSETTO:-0800
TZNAME:PST
DTSTART:20201101T090000
END:STANDARD
BEGIN:DAYLIGHT
TZOFFSETFROM:-0800
TZOFFSETTO:-0700
TZNAME:PDT
DTSTART:20210314T100000
END:DAYLIGHT
BEGIN:STANDARD
TZOFFSETFROM:-0700
TZOFFSETTO:-0800
TZNAME:PST
DTSTART:20211107T090000
END:STANDARD
BEGIN:DAYLIGHT
TZOFFSETFROM:-0800
TZOFFSETTO:-0700
TZNAME:PDT
DTSTART:20220313T100000
END:DAYLIGHT
BEGIN:STANDARD
TZOFFSETFROM:-0700
TZOFFSETTO:-0800
TZNAME:PST
DTSTART:20221106T090000
END:STANDARD
BEGIN:DAYLIGHT
TZOFFSETFROM:-0800
TZOFFSETTO:-0700
TZNAME:PDT
DTSTART:20230312T100000
END:DAYLIGHT
BEGIN:STANDARD
TZOFFSETFROM:-0700
TZOFFSETTO:-0800
TZNAME:PST
DTSTART:20231105T090000
END:STANDARD
BEGIN:DAYLIGHT
TZOFFSETFROM:-0800
TZOFFSETTO:-0700
TZNAME:PDT
DTSTART:20240310T100000
END:DAYLIGHT
BEGIN:STANDARD
TZOFFSETFROM:-0700
TZOFFSETTO:-0800
TZNAME:PST
DTSTART:20241103T090000
END:STANDARD
BEGIN:DAYLIGHT
TZOFFSETFROM:-0800
TZOFFSETTO:-0700
TZNAME:PDT
DTSTART:20250309T100000
END:DAYLIGHT
BEGIN:STANDARD
TZOFFSETFROM:-0700
TZOFFSETTO:-0800
TZNAME:PST
DTSTART:20251102T090000
END:STANDARD
BEGIN:DAYLIGHT
TZOFFSETFROM:-0800
TZOFFSETTO:-0700
TZNAME:PDT
DTSTART:20260308T100000
END:DAYLIGHT
BEGIN:STANDARD
TZOFFSETFROM:-0700
TZOFFSETTO:-0800
TZNAME:PST
DTSTART:20261101T090000
END:STANDARD
END:VTIMEZONE
BEGIN:VEVENT
DTSTART;TZID=America/Los_Angeles:20250114T190000
DTEND;TZID=America/Los_Angeles:20250114T210000
DTSTAMP:20260422T035546
CREATED:20250115T025249Z
LAST-MODIFIED:20250115T025249Z
UID:5922-1736881200-1736888400@lakemarcel.net
SUMMARY:Monthly Board Meeting
DESCRIPTION:Click here to join the meeting
URL:https://lakemarcel.net/event/monthly-board-meeting-12/
LOCATION:Online Via Teams
CATEGORIES:Board Meeting
END:VEVENT
BEGIN:VEVENT
DTSTART;TZID=America/Los_Angeles:20241210T190000
DTEND;TZID=America/Los_Angeles:20241210T210000
DTSTAMP:20260422T035546
CREATED:20240131T041818Z
LAST-MODIFIED:20240131T041818Z
UID:3748-1733857200-1733864400@lakemarcel.net
SUMMARY:Monthly Board Meeting
DESCRIPTION:Click here to join the meeting
URL:https://lakemarcel.net/event/monthly-board-meeting-11/
LOCATION:Online Via Teams
CATEGORIES:Board Meeting
END:VEVENT
BEGIN:VEVENT
DTSTART;TZID=America/Los_Angeles:20240109T190000
DTEND;TZID=America/Los_Angeles:20240109T203000
DTSTAMP:20260422T035546
CREATED:20231227T011324Z
LAST-MODIFIED:20231227T011324Z
UID:3465-1704826800-1704832200@lakemarcel.net
SUMMARY:Monthly Online LMCC Board Meeting
DESCRIPTION:Online via Teams\n\n\nClick here for the meeting link. \nPlease join us!
URL:https://lakemarcel.net/event/monthly-online-lmcc-board-meeting-25/
CATEGORIES:Board Meeting
END:VEVENT
BEGIN:VEVENT
DTSTART;TZID=America/Los_Angeles:20231114T190000
DTEND;TZID=America/Los_Angeles:20231114T203000
DTSTAMP:20260422T035546
CREATED:20221208T011505Z
LAST-MODIFIED:20221208T011505Z
UID:3468-1699988400-1699993800@lakemarcel.net
SUMMARY:Monthly Online LMCC Board Meeting
DESCRIPTION:Monthly LMCC Board Meeting\nOnline via Teams\n\n\nClick here for the meeting link. \nPlease join us!
URL:https://lakemarcel.net/event/monthly-online-lmcc-board-meeting-28/
CATEGORIES:Board Meeting
END:VEVENT
BEGIN:VEVENT
DTSTART;TZID=America/Los_Angeles:20231010T190000
DTEND;TZID=America/Los_Angeles:20231010T203000
DTSTAMP:20260422T035546
CREATED:20221208T011436Z
LAST-MODIFIED:20221208T011436Z
UID:3467-1696964400-1696969800@lakemarcel.net
SUMMARY:Monthly Online LMCC Board Meeting
DESCRIPTION:Monthly LMCC Board Meeting\nOnline via Teams\n\n\nClick here for the meeting link. \nPlease join us!
URL:https://lakemarcel.net/event/monthly-online-lmcc-board-meeting-27/
CATEGORIES:Board Meeting
END:VEVENT
BEGIN:VEVENT
DTSTART;TZID=America/Los_Angeles:20230912T190000
DTEND;TZID=America/Los_Angeles:20230912T203000
DTSTAMP:20260422T035546
CREATED:20221208T011402Z
LAST-MODIFIED:20221208T011402Z
UID:3466-1694545200-1694550600@lakemarcel.net
SUMMARY:Monthly Online LMCC Board Meeting
DESCRIPTION:Monthly LMCC Board Meeting\nOnline via Teams\n\n\nClick here for the meeting link. \nPlease join us!
URL:https://lakemarcel.net/event/monthly-online-lmcc-board-meeting-26/
CATEGORIES:Board Meeting
END:VEVENT
BEGIN:VEVENT
DTSTART;TZID=America/Los_Angeles:20230711T190000
DTEND;TZID=America/Los_Angeles:20230711T203000
DTSTAMP:20260422T035546
CREATED:20221208T011242Z
LAST-MODIFIED:20221208T011242Z
UID:3464-1689102000-1689107400@lakemarcel.net
SUMMARY:Monthly Online LMCC Board Meeting
DESCRIPTION:Monthly LMCC Board Meeting\nOnline via Teams\n\n\nClick here for the meeting link. \nPlease join us!
URL:https://lakemarcel.net/event/monthly-online-lmcc-board-meeting-24/
CATEGORIES:Board Meeting
END:VEVENT
BEGIN:VEVENT
DTSTART;TZID=America/Los_Angeles:20230613T190000
DTEND;TZID=America/Los_Angeles:20230613T203000
DTSTAMP:20260422T035546
CREATED:20221208T011205Z
LAST-MODIFIED:20221208T011205Z
UID:3463-1686682800-1686688200@lakemarcel.net
SUMMARY:Monthly Online LMCC Board Meeting - Canceled
DESCRIPTION:Tonight’s meeting is canceled and will be rescheduled soon.
URL:https://lakemarcel.net/event/monthly-online-lmcc-board-meeting-23/
CATEGORIES:Board Meeting
END:VEVENT
BEGIN:VEVENT
DTSTART;TZID=America/Los_Angeles:20230509T190000
DTEND;TZID=America/Los_Angeles:20230509T203000
DTSTAMP:20260422T035546
CREATED:20221208T011124Z
LAST-MODIFIED:20221208T011124Z
UID:3462-1683658800-1683664200@lakemarcel.net
SUMMARY:Monthly Online LMCC Board Meeting
DESCRIPTION:Monthly LMCC Board Meeting\nOnline via Teams\n\n\nClick here for the meeting link. \nPlease join us!
URL:https://lakemarcel.net/event/monthly-online-lmcc-board-meeting-22/
CATEGORIES:Board Meeting
END:VEVENT
BEGIN:VEVENT
DTSTART;TZID=America/Los_Angeles:20230418T190000
DTEND;TZID=America/Los_Angeles:20230418T203000
DTSTAMP:20260422T035546
CREATED:20221208T011049Z
LAST-MODIFIED:20221208T011049Z
UID:3461-1681844400-1681849800@lakemarcel.net
SUMMARY:Monthly Online LMCC Board Meeting
DESCRIPTION:Monthly LMCC Board Meeting\nOnline via Teams\n\n\nClick here for the meeting link. \nPlease join us!
URL:https://lakemarcel.net/event/monthly-online-lmcc-board-meeting-21/
CATEGORIES:Board Meeting
END:VEVENT
BEGIN:VEVENT
DTSTART;TZID=America/Los_Angeles:20230314T190000
DTEND;TZID=America/Los_Angeles:20230314T203000
DTSTAMP:20260422T035546
CREATED:20221208T011010Z
LAST-MODIFIED:20221208T011010Z
UID:3460-1678820400-1678825800@lakemarcel.net
SUMMARY:Monthly Online LMCC Board Meeting
DESCRIPTION:Monthly LMCC Board Meeting\nOnline via Teams\n\n\nClick here for the meeting link. \nPlease join us!
URL:https://lakemarcel.net/event/monthly-online-lmcc-board-meeting-20/
CATEGORIES:Board Meeting
END:VEVENT
BEGIN:VEVENT
DTSTART;TZID=America/Los_Angeles:20230214T190000
DTEND;TZID=America/Los_Angeles:20230214T203000
DTSTAMP:20260422T035546
CREATED:20221208T010932Z
LAST-MODIFIED:20221208T010932Z
UID:3459-1676401200-1676406600@lakemarcel.net
SUMMARY:Monthly Online LMCC Board Meeting
DESCRIPTION:Monthly LMCC Board Meeting\nOnline via Teams\n\n\nClick here for the meeting link. \nPlease join us!
URL:https://lakemarcel.net/event/monthly-online-lmcc-board-meeting-19/
CATEGORIES:Board Meeting
END:VEVENT
BEGIN:VEVENT
DTSTART;TZID=America/Los_Angeles:20230110T190000
DTEND;TZID=America/Los_Angeles:20230110T203000
DTSTAMP:20260422T035546
CREATED:20221208T010828Z
LAST-MODIFIED:20221208T010828Z
UID:3458-1673377200-1673382600@lakemarcel.net
SUMMARY:Monthly Online LMCC Board Meeting
DESCRIPTION:Monthly LMCC Board Meeting\nOnline via Teams\n\n\nClick here for the meeting link. \nPlease join us!
URL:https://lakemarcel.net/event/monthly-online-lmcc-board-meeting-18/
CATEGORIES:Board Meeting
END:VEVENT
BEGIN:VEVENT
DTSTART;TZID=America/Los_Angeles:20221213T190000
DTEND;TZID=America/Los_Angeles:20221213T203000
DTSTAMP:20260422T035546
CREATED:20221203T041800Z
LAST-MODIFIED:20221203T041800Z
UID:3455-1670958000-1670963400@lakemarcel.net
SUMMARY:Special Online LMCC Board Meeting
DESCRIPTION:Monthly LMCC Board Meeting\nOnline via Teams\n\n\nClick here for the meeting link. \nPlease join us!
URL:https://lakemarcel.net/event/monthly-online-lmcc-board-meeting-8/
CATEGORIES:Board Meeting
END:VEVENT
BEGIN:VEVENT
DTSTART;TZID=America/Los_Angeles:20221108T190000
DTEND;TZID=America/Los_Angeles:20221108T203000
DTSTAMP:20260422T035546
CREATED:20211209T205130Z
LAST-MODIFIED:20211209T205130Z
UID:2880-1667934000-1667939400@lakemarcel.net
SUMMARY:Monthly Online LMCC Board Meeting
DESCRIPTION:Monthly LMCC Board Meeting\nOnline via Teams\n\n\nClick here for the meeting link. \nPlease join us!
URL:https://lakemarcel.net/event/monthly-online-lmcc-board-meeting-17/
CATEGORIES:Board Meeting
END:VEVENT
BEGIN:VEVENT
DTSTART;TZID=America/Los_Angeles:20221011T190000
DTEND;TZID=America/Los_Angeles:20221011T203000
DTSTAMP:20260422T035546
CREATED:20211209T205002Z
LAST-MODIFIED:20211209T205002Z
UID:2878-1665514800-1665520200@lakemarcel.net
SUMMARY:Monthly Online LMCC Board Meeting
DESCRIPTION:Monthly LMCC Board Meeting\nOnline via Teams\n\n\nClick here for the meeting link. \nPlease join us!
URL:https://lakemarcel.net/event/monthly-online-lmcc-board-meeting-16/
CATEGORIES:Board Meeting
END:VEVENT
BEGIN:VEVENT
DTSTART;TZID=America/Los_Angeles:20220913T190000
DTEND;TZID=America/Los_Angeles:20220913T203000
DTSTAMP:20260422T035546
CREATED:20211209T204827Z
LAST-MODIFIED:20211209T204827Z
UID:2876-1663095600-1663101000@lakemarcel.net
SUMMARY:Monthly Online LMCC Board Meeting
DESCRIPTION:Monthly LMCC Board Meeting\nOnline via Teams\n\n\nClick here for the meeting link. \nPlease join us!
URL:https://lakemarcel.net/event/monthly-online-lmcc-board-meeting-15/
CATEGORIES:Board Meeting
END:VEVENT
BEGIN:VEVENT
DTSTART;TZID=America/Los_Angeles:20220809T190000
DTEND;TZID=America/Los_Angeles:20220809T203000
DTSTAMP:20260422T035546
CREATED:20211209T204703Z
LAST-MODIFIED:20211209T204703Z
UID:2874-1660071600-1660077000@lakemarcel.net
SUMMARY:Monthly Online LMCC Board Meeting
DESCRIPTION:Monthly LMCC Board Meeting\nOnline via Teams\n\n\nClick here for the meeting link. \nPlease join us!
URL:https://lakemarcel.net/event/monthly-online-lmcc-board-meeting-14/
CATEGORIES:Board Meeting
END:VEVENT
BEGIN:VEVENT
DTSTART;TZID=America/Los_Angeles:20220712T190000
DTEND;TZID=America/Los_Angeles:20220712T203000
DTSTAMP:20260422T035546
CREATED:20211209T204538Z
LAST-MODIFIED:20211209T204538Z
UID:2872-1657652400-1657657800@lakemarcel.net
SUMMARY:Monthly Online LMCC Board Meeting
DESCRIPTION:Monthly LMCC Board Meeting\nOnline via Teams\n\n\nClick here for the meeting link. \nPlease join us!
URL:https://lakemarcel.net/event/monthly-online-lmcc-board-meeting-13/
CATEGORIES:Board Meeting
END:VEVENT
BEGIN:VEVENT
DTSTART;TZID=America/Los_Angeles:20220614T190000
DTEND;TZID=America/Los_Angeles:20220614T203000
DTSTAMP:20260422T035546
CREATED:20211209T204404Z
LAST-MODIFIED:20211209T204404Z
UID:2870-1655233200-1655238600@lakemarcel.net
SUMMARY:Monthly Online LMCC Board Meeting
DESCRIPTION:Monthly LMCC Board Meeting\nOnline via Teams\n\n\nClick here for the meeting link. \nPlease join us!
URL:https://lakemarcel.net/event/monthly-online-lmcc-board-meeting-12/
CATEGORIES:Board Meeting
END:VEVENT
BEGIN:VEVENT
DTSTART;TZID=America/Los_Angeles:20220510T190000
DTEND;TZID=America/Los_Angeles:20220510T203000
DTSTAMP:20260422T035546
CREATED:20211209T204219Z
LAST-MODIFIED:20211209T204219Z
UID:2868-1652209200-1652214600@lakemarcel.net
SUMMARY:Monthly Online LMCC Board Meeting
DESCRIPTION:Monthly LMCC Board Meeting\nOnline via Teams\n\n\nClick here for the meeting link. \nPlease join us!
URL:https://lakemarcel.net/event/monthly-online-lmcc-board-meeting-11/
CATEGORIES:Board Meeting
END:VEVENT
BEGIN:VEVENT
DTSTART;TZID=America/Los_Angeles:20220419T190000
DTEND;TZID=America/Los_Angeles:20220419T203000
DTSTAMP:20260422T035546
CREATED:20211209T204029Z
LAST-MODIFIED:20211209T204029Z
UID:2866-1650394800-1650400200@lakemarcel.net
SUMMARY:Monthly Online LMCC Board Meeting
DESCRIPTION:Monthly LMCC Board Meeting\nOnline via Teams\n\n\nClick here for the meeting link. \nPlease join us!
URL:https://lakemarcel.net/event/monthly-online-lmcc-board-meeting-10/
CATEGORIES:Board Meeting
END:VEVENT
BEGIN:VEVENT
DTSTART;TZID=America/Los_Angeles:20220308T190000
DTEND;TZID=America/Los_Angeles:20220308T203000
DTSTAMP:20260422T035546
CREATED:20211209T203838Z
LAST-MODIFIED:20211209T203838Z
UID:2864-1646766000-1646771400@lakemarcel.net
SUMMARY:Monthly Online LMCC Board Meeting
DESCRIPTION:Monthly LMCC Board Meeting\nOnline via Teams\n\n\nClick here for the meeting link. \nPlease join us!
URL:https://lakemarcel.net/event/monthly-online-lmcc-board-meeting-9/
CATEGORIES:Board Meeting
END:VEVENT
BEGIN:VEVENT
DTSTART;TZID=America/Los_Angeles:20220208T190000
DTEND;TZID=America/Los_Angeles:20220208T203000
DTSTAMP:20260422T035546
CREATED:20211209T203638Z
LAST-MODIFIED:20211209T203638Z
UID:2861-1644346800-1644352200@lakemarcel.net
SUMMARY:Monthly Online LMCC Board Meeting
DESCRIPTION:Monthly LMCC Board Meeting\nOnline via Teams\n\n\nClick here for the meeting link. \nPlease join us!
URL:https://lakemarcel.net/event/2861/
CATEGORIES:Board Meeting
END:VEVENT
BEGIN:VEVENT
DTSTART;TZID=America/Los_Angeles:20220125T190000
DTEND;TZID=America/Los_Angeles:20220125T203000
DTSTAMP:20260422T035546
CREATED:20220117T233124Z
LAST-MODIFIED:20220117T233124Z
UID:2930-1643137200-1643142600@lakemarcel.net
SUMMARY:Monthly Online LMCC Board Meeting
DESCRIPTION:Monthly LMCC Board Meeting Online via Teams Click here for the meeting link. Please join us!
URL:https://lakemarcel.net/event/january-board-meeting/
CATEGORIES:Board Meeting
END:VEVENT
BEGIN:VEVENT
DTSTART;TZID=America/Los_Angeles:20220111T190000
DTEND;TZID=America/Los_Angeles:20220111T203000
DTSTAMP:20260422T035546
CREATED:20220111T012652Z
LAST-MODIFIED:20220111T012652Z
UID:2926-1641927600-1641933000@lakemarcel.net
SUMMARY:Board Meeting POSTPONED - date TBA
DESCRIPTION:
URL:https://lakemarcel.net/event/board-meeting-postponed-date-tba/
CATEGORIES:Board Meeting
END:VEVENT
BEGIN:VEVENT
DTSTART;TZID=America/Los_Angeles:20211109T190000
DTEND;TZID=America/Los_Angeles:20211109T203000
DTSTAMP:20260422T035546
CREATED:20210806T234306Z
LAST-MODIFIED:20210806T234306Z
UID:2690-1636484400-1636489800@lakemarcel.net
SUMMARY:Monthly Online LMCC Board Meeting
DESCRIPTION:Click here for the meeting link. \nPlease join us for our Monthly Online Board Meeting.
URL:https://lakemarcel.net/event/monthly-online-lmcc-board-meeting-2/
LOCATION:Online Via Teams
CATEGORIES:Board Meeting
END:VEVENT
BEGIN:VEVENT
DTSTART;TZID=America/Los_Angeles:20211012T190000
DTEND;TZID=America/Los_Angeles:20211012T203000
DTSTAMP:20260422T035546
CREATED:20210806T234654Z
LAST-MODIFIED:20210806T234654Z
UID:2688-1634065200-1634070600@lakemarcel.net
SUMMARY:Monthly Online LMCC Board Meeting
DESCRIPTION:Click here for the meeting link. \nPlease join us for our Monthly Online Board Meeting.
URL:https://lakemarcel.net/event/monthly-online-lmcc-board-meeting-3/
LOCATION:Online Via Teams
CATEGORIES:Board Meeting
END:VEVENT
BEGIN:VEVENT
DTSTART;TZID=America/Los_Angeles:20210913T190000
DTEND;TZID=America/Los_Angeles:20210913T203000
DTSTAMP:20260422T035546
CREATED:20210806T234715Z
LAST-MODIFIED:20210806T234715Z
UID:2686-1631559600-1631565000@lakemarcel.net
SUMMARY:Monthly Online LMCC Board Meeting
DESCRIPTION:Click here for the meeting link. \nPlease join us for our Monthly Online Board Meeting.
URL:https://lakemarcel.net/event/monthly-online-lmcc-board-meeting-4/
LOCATION:Online Via Teams
CATEGORIES:Board Meeting
END:VEVENT
BEGIN:VEVENT
DTSTART;TZID=America/Los_Angeles:20210810T190000
DTEND;TZID=America/Los_Angeles:20210810T203000
DTSTAMP:20260422T035546
CREATED:20210806T234750Z
LAST-MODIFIED:20210806T234750Z
UID:2681-1628622000-1628627400@lakemarcel.net
SUMMARY:Monthly Online LMCC Board Meeting
DESCRIPTION:Click here for the meeting link. \nPlease join us for our Monthly Online Board Meeting.
URL:https://lakemarcel.net/event/monthly-online-lmcc-board-meeting-5/
LOCATION:Online Via Teams
CATEGORIES:Board Meeting
END:VEVENT
END:VCALENDAR