BEGIN:VCALENDAR
VERSION:2.0
PRODID:-//Lake Marcel Community Club - ECPv6.15.20//NONSGML v1.0//EN
CALSCALE:GREGORIAN
METHOD:PUBLISH
X-ORIGINAL-URL:https://lakemarcel.net
X-WR-CALDESC:Events for Lake Marcel Community Club
REFRESH-INTERVAL;VALUE=DURATION:PT1H
X-Robots-Tag:noindex
X-PUBLISHED-TTL:PT1H
BEGIN:VTIMEZONE
TZID:America/Los_Angeles
BEGIN:DAYLIGHT
TZOFFSETFROM:-0800
TZOFFSETTO:-0700
TZNAME:PDT
DTSTART:20160313T100000
END:DAYLIGHT
BEGIN:STANDARD
TZOFFSETFROM:-0700
TZOFFSETTO:-0800
TZNAME:PST
DTSTART:20161106T090000
END:STANDARD
BEGIN:DAYLIGHT
TZOFFSETFROM:-0800
TZOFFSETTO:-0700
TZNAME:PDT
DTSTART:20170312T100000
END:DAYLIGHT
BEGIN:STANDARD
TZOFFSETFROM:-0700
TZOFFSETTO:-0800
TZNAME:PST
DTSTART:20171105T090000
END:STANDARD
BEGIN:DAYLIGHT
TZOFFSETFROM:-0800
TZOFFSETTO:-0700
TZNAME:PDT
DTSTART:20180311T100000
END:DAYLIGHT
BEGIN:STANDARD
TZOFFSETFROM:-0700
TZOFFSETTO:-0800
TZNAME:PST
DTSTART:20181104T090000
END:STANDARD
BEGIN:DAYLIGHT
TZOFFSETFROM:-0800
TZOFFSETTO:-0700
TZNAME:PDT
DTSTART:20190310T100000
END:DAYLIGHT
BEGIN:STANDARD
TZOFFSETFROM:-0700
TZOFFSETTO:-0800
TZNAME:PST
DTSTART:20191103T090000
END:STANDARD
BEGIN:DAYLIGHT
TZOFFSETFROM:-0800
TZOFFSETTO:-0700
TZNAME:PDT
DTSTART:20200308T100000
END:DAYLIGHT
BEGIN:STANDARD
TZOFFSETFROM:-0700
TZOFFSETTO:-0800
TZNAME:PST
DTSTART:20201101T090000
END:STANDARD
BEGIN:DAYLIGHT
TZOFFSETFROM:-0800
TZOFFSETTO:-0700
TZNAME:PDT
DTSTART:20210314T100000
END:DAYLIGHT
BEGIN:STANDARD
TZOFFSETFROM:-0700
TZOFFSETTO:-0800
TZNAME:PST
DTSTART:20211107T090000
END:STANDARD
END:VTIMEZONE
BEGIN:VEVENT
DTSTART;TZID=America/Los_Angeles:20200811T190000
DTEND;TZID=America/Los_Angeles:20200811T210000
DTSTAMP:20260422T103708
CREATED:20200722T231931Z
LAST-MODIFIED:20200722T231931Z
UID:2435-1597172400-1597179600@lakemarcel.net
SUMMARY:LMCC Monthly "Online" Board Meeting
DESCRIPTION:August 11th @ 7:00 pm – 9:00 pm\n\n\nBoard members will meet virtually at 7pm and then Open sessions for all LMCC members will be at 7:20pm. Join via teams.  Click join through browser if you do not have a Teams account. Find the link to the meeting here. You will be admitted when the public session is open.
URL:https://lakemarcel.net/event/lmcc-monthly-online-board-meeting-2/
LOCATION:WA\, United States
CATEGORIES:Board Meeting
ORGANIZER;CN="LMCC":MAILTO:ADMIN@LAKEMARCEL.NET
END:VEVENT
BEGIN:VEVENT
DTSTART;TZID=America/Los_Angeles:20200714T190000
DTEND;TZID=America/Los_Angeles:20200714T210000
DTSTAMP:20260422T103708
CREATED:20200708T194742Z
LAST-MODIFIED:20200708T194742Z
UID:2418-1594753200-1594760400@lakemarcel.net
SUMMARY:LMCC Monthly "Online" Board Meeting
DESCRIPTION:July 14th @ 7:00 pm – 9:00 pm\n\nBoard members will meet virtually at 7pm and then Open sessions for all LMCC members will be at 7:20pm. Join via teams.  Click join through browser if you do not have a Teams account. Find the link to the meeting here. You will be admitted when the public session is open.
URL:https://lakemarcel.net/event/lmcc-monthly-online-board-meeting/
LOCATION:WA\, United States
CATEGORIES:Board Meeting
ORGANIZER;CN="LMCC":MAILTO:ADMIN@LAKEMARCEL.NET
END:VEVENT
BEGIN:VEVENT
DTSTART;TZID=America/Los_Angeles:20200609T190000
DTEND;TZID=America/Los_Angeles:20200609T210000
DTSTAMP:20260422T103708
CREATED:20191213T231657Z
LAST-MODIFIED:20191213T231657Z
UID:2384-1591729200-1591736400@lakemarcel.net
SUMMARY:LMCC Monthly Board Meeting
DESCRIPTION:Board members will meet virtually at 7pm and then Open sessions for all LMCC members will be at 7:20pm. Join via teams.  Click join through browser if you do not have a Teams account. Find the link to the meeting here. You will be admitted when the public session is open.
URL:https://lakemarcel.net/event/lmcc-montly-board-meeting-3/
CATEGORIES:Board Meeting
END:VEVENT
BEGIN:VEVENT
DTSTART;TZID=America/Los_Angeles:20200512T190000
DTEND;TZID=America/Los_Angeles:20200512T210000
DTSTAMP:20260422T103708
CREATED:20191213T231548Z
LAST-MODIFIED:20191213T231548Z
UID:2382-1589310000-1589317200@lakemarcel.net
SUMMARY:LMCC Monthly Board Meeting
DESCRIPTION:Board members will meet virtually at 7pm and then Open sessions for all LMCC members will be at 7:20pm. Join via teams.  Click join through browser if you do not have a Teams account. Click here to join the meeting. You will be admitted when the public session is open.
URL:https://lakemarcel.net/event/lmcc-montly-board-meeting-2/
CATEGORIES:Board Meeting
END:VEVENT
BEGIN:VEVENT
DTSTART;TZID=America/Los_Angeles:20200414T190000
DTEND;TZID=America/Los_Angeles:20200414T210000
DTSTAMP:20260422T103708
CREATED:20191213T230922Z
LAST-MODIFIED:20191213T230922Z
UID:2376-1586890800-1586898000@lakemarcel.net
SUMMARY:LMCC Monthly Board Meeting
DESCRIPTION:The LMCC monthly board meetings are held at the LMCC office on the second Tuesday of each month\, at 7:00 PM. All LMCC homeowners are welcome to attend.
URL:https://lakemarcel.net/event/lmcc-monthly-board-meeting-2/
CATEGORIES:Board Meeting
END:VEVENT
BEGIN:VEVENT
DTSTART;TZID=America/Los_Angeles:20200310T190000
DTEND;TZID=America/Los_Angeles:20200310T210000
DTSTAMP:20260422T103708
CREATED:20191213T230634Z
LAST-MODIFIED:20191213T230634Z
UID:2373-1583866800-1583874000@lakemarcel.net
SUMMARY:LMCC Montly Board Meeting
DESCRIPTION:The LMCC monthly board meetings are held at the LMCC office on the second Tuesday of each month\, at 7:00 PM. All LMCC homeowners are welcome to attend.
URL:https://lakemarcel.net/event/lmcc-montly-board-meeting/
CATEGORIES:Board Meeting
END:VEVENT
BEGIN:VEVENT
DTSTART;TZID=America/Los_Angeles:20200211T190000
DTEND;TZID=America/Los_Angeles:20200211T210000
DTSTAMP:20260422T103708
CREATED:20191213T230015Z
LAST-MODIFIED:20191213T230015Z
UID:2367-1581447600-1581454800@lakemarcel.net
SUMMARY:LMCC Monthly Board Meeting
DESCRIPTION:The LMCC monthly board meetings are held at the LMCC office on the second Tuesday of each month\, at 7:00 PM. All LMCC homeowners are welcome to attend.
URL:https://lakemarcel.net/event/monthly-lmcc-board-meeting/
CATEGORIES:Board Meeting
END:VEVENT
BEGIN:VEVENT
DTSTART;TZID=America/Los_Angeles:20200114T190000
DTEND;TZID=America/Los_Angeles:20200114T210000
DTSTAMP:20260422T103708
CREATED:20191213T225626Z
LAST-MODIFIED:20191213T225626Z
UID:2365-1579028400-1579035600@lakemarcel.net
SUMMARY:LMCC Monthly Board Meeting
DESCRIPTION:The LMCC monthly board meetings are held at the LMCC office on the second Tuesday of each month\, at 7:00 PM.  All LMCC homeowners are welcome to attend.
URL:https://lakemarcel.net/event/lmcc-monthly-board-meeting/
LOCATION:LMCC Office
CATEGORIES:Board Meeting
END:VEVENT
BEGIN:VEVENT
DTSTART;TZID=America/Los_Angeles:20191112T190000
DTEND;TZID=America/Los_Angeles:20191112T210000
DTSTAMP:20260422T103708
CREATED:20191111T195804Z
LAST-MODIFIED:20191111T195804Z
UID:2352-1573585200-1573592400@lakemarcel.net
SUMMARY:Board Meeting
DESCRIPTION:Board Meeting at LMCC Office located at Beach 1.
URL:https://lakemarcel.net/event/board-meeting-35/
LOCATION:LMCC Office
CATEGORIES:Board Meeting
END:VEVENT
BEGIN:VEVENT
DTSTART;TZID=America/Los_Angeles:20190820T190000
DTEND;TZID=America/Los_Angeles:20190820T210000
DTSTAMP:20260422T103708
CREATED:20190804T232609Z
LAST-MODIFIED:20190804T232609Z
UID:2328-1566327600-1566334800@lakemarcel.net
SUMMARY:August Board Meeting
DESCRIPTION:The August Board of Director’s Meeting will be held at the LMCC office located at Beach 1. It will start in closed session at 7 p.m. and should transition to open session by 7:30 p.m.
URL:https://lakemarcel.net/event/august-board-meeting/
LOCATION:LMCC Office
CATEGORIES:Board Meeting
END:VEVENT
BEGIN:VEVENT
DTSTART;TZID=America/Los_Angeles:20190611T190000
DTEND;TZID=America/Los_Angeles:20190611T210000
DTSTAMP:20260422T103708
CREATED:20190606T190921Z
LAST-MODIFIED:20190606T190921Z
UID:2305-1560279600-1560286800@lakemarcel.net
SUMMARY:June Board Meeting
DESCRIPTION:The June Board of Director’s Meeting will be held at the LMCC office located at Beach 1. It will start in closed session at 7 p.m. and should transition to open session by 7:30 p.m.
URL:https://lakemarcel.net/event/june-board-meeting/
LOCATION:LMCC Office
CATEGORIES:Board Meeting
END:VEVENT
BEGIN:VEVENT
DTSTART;TZID=America/Los_Angeles:20190514T190000
DTEND;TZID=America/Los_Angeles:20190514T210000
DTSTAMP:20260422T103708
CREATED:20190429T195620Z
LAST-MODIFIED:20190429T195620Z
UID:2272-1557860400-1557867600@lakemarcel.net
SUMMARY:Board Meeting
DESCRIPTION:
URL:https://lakemarcel.net/event/board-meeting-34/
LOCATION:LMCC Office
CATEGORIES:Board Meeting
END:VEVENT
BEGIN:VEVENT
DTSTART;TZID=America/Los_Angeles:20190416T190000
DTEND;TZID=America/Los_Angeles:20190416T210000
DTSTAMP:20260422T103708
CREATED:20190325T214715Z
LAST-MODIFIED:20190325T214715Z
UID:2267-1555441200-1555448400@lakemarcel.net
SUMMARY:Board Meeting
DESCRIPTION:
URL:https://lakemarcel.net/event/board-meeting-33/
LOCATION:LMCC Office
CATEGORIES:Board Meeting
END:VEVENT
BEGIN:VEVENT
DTSTART;TZID=America/Los_Angeles:20190312T190000
DTEND;TZID=America/Los_Angeles:20190312T210000
DTSTAMP:20260422T103708
CREATED:20190312T194303Z
LAST-MODIFIED:20190312T194303Z
UID:2261-1552417200-1552424400@lakemarcel.net
SUMMARY:Board Meeting
DESCRIPTION:Board meeting at Beach 1 office.
URL:https://lakemarcel.net/event/board-meeting-32/
LOCATION:LMCC Office
CATEGORIES:Board Meeting
END:VEVENT
BEGIN:VEVENT
DTSTART;TZID=America/Los_Angeles:20190219T193000
DTEND;TZID=America/Los_Angeles:20190219T210000
DTSTAMP:20260422T103708
CREATED:20190213T002648Z
LAST-MODIFIED:20190213T002648Z
UID:2255-1550604600-1550610000@lakemarcel.net
SUMMARY:Board Meeting
DESCRIPTION:
URL:https://lakemarcel.net/event/board-meeting-31/
LOCATION:LMCC Office
CATEGORIES:Board Meeting
END:VEVENT
BEGIN:VEVENT
DTSTART;TZID=America/Los_Angeles:20190122T190000
DTEND;TZID=America/Los_Angeles:20190122T210000
DTSTAMP:20260422T103708
CREATED:20181217T211748Z
LAST-MODIFIED:20181217T211748Z
UID:2253-1548183600-1548190800@lakemarcel.net
SUMMARY:Board Meeting
DESCRIPTION:Monthly Board Meeting being held at LMCC Office located at Beach 1.
URL:https://lakemarcel.net/event/board-meeting-30/
CATEGORIES:Board Meeting
END:VEVENT
BEGIN:VEVENT
DTSTART;TZID=America/Los_Angeles:20181127T190000
DTEND;TZID=America/Los_Angeles:20181127T210000
DTSTAMP:20260422T103708
CREATED:20181121T024146Z
LAST-MODIFIED:20181121T024146Z
UID:2222-1543345200-1543352400@lakemarcel.net
SUMMARY:Board Meeting
DESCRIPTION:Open session begins at 7:30 pm.
URL:https://lakemarcel.net/event/board-meeting-29/
CATEGORIES:Board Meeting
END:VEVENT
BEGIN:VEVENT
DTSTART;TZID=America/Los_Angeles:20181120T190000
DTEND;TZID=America/Los_Angeles:20181120T210000
DTSTAMP:20260422T103708
CREATED:20180130T004455Z
LAST-MODIFIED:20180130T004455Z
UID:2115-1542740400-1542747600@lakemarcel.net
SUMMARY:Board Meeting - Canceled
DESCRIPTION:Canceled due to lack of quorum. Rescheduled for 11/27.
URL:https://lakemarcel.net/event/board-meeting-27/
CATEGORIES:Board Meeting
END:VEVENT
BEGIN:VEVENT
DTSTART;TZID=America/Los_Angeles:20181016T190000
DTEND;TZID=America/Los_Angeles:20181016T210000
DTSTAMP:20260422T103708
CREATED:20180130T004328Z
LAST-MODIFIED:20180130T004328Z
UID:2113-1539716400-1539723600@lakemarcel.net
SUMMARY:Board Meeting
DESCRIPTION:
URL:https://lakemarcel.net/event/board-meeting-26/
CATEGORIES:Board Meeting
END:VEVENT
BEGIN:VEVENT
DTSTART;TZID=America/Los_Angeles:20180918T190000
DTEND;TZID=America/Los_Angeles:20180918T210000
DTSTAMP:20260422T103708
CREATED:20180130T004247Z
LAST-MODIFIED:20180130T004247Z
UID:2111-1537297200-1537304400@lakemarcel.net
SUMMARY:Board Meeting
DESCRIPTION:
URL:https://lakemarcel.net/event/board-meeting-25/
CATEGORIES:Board Meeting
END:VEVENT
BEGIN:VEVENT
DTSTART;TZID=America/Los_Angeles:20180829T190000
DTEND;TZID=America/Los_Angeles:20180829T210000
DTSTAMP:20260422T103708
CREATED:20180130T004127Z
LAST-MODIFIED:20180130T004127Z
UID:2109-1535569200-1535576400@lakemarcel.net
SUMMARY:Board Meeting
DESCRIPTION:
URL:https://lakemarcel.net/event/board-meeting-24/
CATEGORIES:Board Meeting
END:VEVENT
BEGIN:VEVENT
DTSTART;TZID=America/Los_Angeles:20180724T190000
DTEND;TZID=America/Los_Angeles:20180724T210000
DTSTAMP:20260422T103708
CREATED:20180130T004054Z
LAST-MODIFIED:20180130T004054Z
UID:2107-1532458800-1532466000@lakemarcel.net
SUMMARY:Board Meeting
DESCRIPTION:
URL:https://lakemarcel.net/event/board-meeting-23/
CATEGORIES:Board Meeting
END:VEVENT
BEGIN:VEVENT
DTSTART;TZID=America/Los_Angeles:20180619T190000
DTEND;TZID=America/Los_Angeles:20180619T210000
DTSTAMP:20260422T103708
CREATED:20180130T004004Z
LAST-MODIFIED:20180130T004004Z
UID:2105-1529434800-1529442000@lakemarcel.net
SUMMARY:Board Meeting
DESCRIPTION:
URL:https://lakemarcel.net/event/board-meeting-22/
CATEGORIES:Board Meeting
END:VEVENT
BEGIN:VEVENT
DTSTART;TZID=America/Los_Angeles:20180522T190000
DTEND;TZID=America/Los_Angeles:20180522T210000
DTSTAMP:20260422T103708
CREATED:20180517T193512Z
LAST-MODIFIED:20180517T193512Z
UID:2145-1527015600-1527022800@lakemarcel.net
SUMMARY:Board Meeting
DESCRIPTION:
URL:https://lakemarcel.net/event/board-meeting-28/
CATEGORIES:Board Meeting
END:VEVENT
BEGIN:VEVENT
DTSTART;TZID=America/Los_Angeles:20180515T190000
DTEND;TZID=America/Los_Angeles:20180515T210000
DTSTAMP:20260422T103708
CREATED:20180130T003840Z
LAST-MODIFIED:20180130T003840Z
UID:2103-1526410800-1526418000@lakemarcel.net
SUMMARY:CANCELLED - Board Meeting
DESCRIPTION:Will update ASAP with rescheduled date.
URL:https://lakemarcel.net/event/board-meeting-20/
CATEGORIES:Board Meeting
END:VEVENT
BEGIN:VEVENT
DTSTART;TZID=America/Los_Angeles:20180417T190000
DTEND;TZID=America/Los_Angeles:20180417T210000
DTSTAMP:20260422T103708
CREATED:20180130T003751Z
LAST-MODIFIED:20180130T003751Z
UID:2101-1523991600-1523998800@lakemarcel.net
SUMMARY:Board Meeting
DESCRIPTION:
URL:https://lakemarcel.net/event/board-meeting-19/
CATEGORIES:Board Meeting
END:VEVENT
BEGIN:VEVENT
DTSTART;TZID=America/Los_Angeles:20180320T190000
DTEND;TZID=America/Los_Angeles:20180320T210000
DTSTAMP:20260422T103708
CREATED:20180130T003703Z
LAST-MODIFIED:20180130T003703Z
UID:2099-1521572400-1521579600@lakemarcel.net
SUMMARY:Board Meeting
DESCRIPTION:
URL:https://lakemarcel.net/event/board-meeting-18/
CATEGORIES:Board Meeting
END:VEVENT
BEGIN:VEVENT
DTSTART;TZID=America/Los_Angeles:20180220T190000
DTEND;TZID=America/Los_Angeles:20180220T210000
DTSTAMP:20260422T103708
CREATED:20180130T003904Z
LAST-MODIFIED:20180130T003904Z
UID:2097-1519153200-1519160400@lakemarcel.net
SUMMARY:Board Meeting
DESCRIPTION:
URL:https://lakemarcel.net/event/board-meeting-21/
CATEGORIES:Board Meeting
END:VEVENT
BEGIN:VEVENT
DTSTART;TZID=America/Los_Angeles:20171219T190000
DTEND;TZID=America/Los_Angeles:20171219T213000
DTSTAMP:20260422T103708
CREATED:20170325T025641Z
LAST-MODIFIED:20170325T025641Z
UID:1990-1513710000-1513719000@lakemarcel.net
SUMMARY:No Board Meeting in December
DESCRIPTION:
URL:https://lakemarcel.net/event/lmcc-easter-egg-hunt/
CATEGORIES:Board Meeting
END:VEVENT
BEGIN:VEVENT
DTSTART;TZID=America/Los_Angeles:20171128T190000
DTEND;TZID=America/Los_Angeles:20171128T210000
DTSTAMP:20260422T103708
CREATED:20170325T035830Z
LAST-MODIFIED:20170325T035830Z
UID:2015-1511895600-1511902800@lakemarcel.net
SUMMARY:Board Meeting
DESCRIPTION:
URL:https://lakemarcel.net/event/board-meeting-16/
CATEGORIES:Board Meeting
END:VEVENT
END:VCALENDAR