BEGIN:VCALENDAR
VERSION:2.0
PRODID:-//Lake Marcel Community Club - ECPv6.15.20//NONSGML v1.0//EN
CALSCALE:GREGORIAN
METHOD:PUBLISH
X-ORIGINAL-URL:https://lakemarcel.net
X-WR-CALDESC:Events for Lake Marcel Community Club
REFRESH-INTERVAL;VALUE=DURATION:PT1H
X-Robots-Tag:noindex
X-PUBLISHED-TTL:PT1H
BEGIN:VTIMEZONE
TZID:America/Los_Angeles
BEGIN:DAYLIGHT
TZOFFSETFROM:-0800
TZOFFSETTO:-0700
TZNAME:PDT
DTSTART:20240310T100000
END:DAYLIGHT
BEGIN:STANDARD
TZOFFSETFROM:-0700
TZOFFSETTO:-0800
TZNAME:PST
DTSTART:20241103T090000
END:STANDARD
BEGIN:DAYLIGHT
TZOFFSETFROM:-0800
TZOFFSETTO:-0700
TZNAME:PDT
DTSTART:20250309T100000
END:DAYLIGHT
BEGIN:STANDARD
TZOFFSETFROM:-0700
TZOFFSETTO:-0800
TZNAME:PST
DTSTART:20251102T090000
END:STANDARD
BEGIN:DAYLIGHT
TZOFFSETFROM:-0800
TZOFFSETTO:-0700
TZNAME:PDT
DTSTART:20260308T100000
END:DAYLIGHT
BEGIN:STANDARD
TZOFFSETFROM:-0700
TZOFFSETTO:-0800
TZNAME:PST
DTSTART:20261101T090000
END:STANDARD
END:VTIMEZONE
BEGIN:VEVENT
DTSTART;TZID=America/Los_Angeles:20250809T110000
DTEND;TZID=America/Los_Angeles:20250809T150000
DTSTAMP:20260422T145855
CREATED:20250703T004512Z
LAST-MODIFIED:20250703T004512Z
UID:4348-1754737200-1754751600@lakemarcel.net
SUMMARY:Deines Beach 1 Shelter Reservation
DESCRIPTION:
URL:https://lakemarcel.net/event/deines-beach-1-shelter-reservation/
LOCATION:Beach1 Picnic Shelter
CATEGORIES:Reservation
END:VEVENT
BEGIN:VEVENT
DTSTART;TZID=America/Los_Angeles:20250820T180000
DTEND;TZID=America/Los_Angeles:20250820T203000
DTSTAMP:20260422T145855
CREATED:20250811T195140Z
LAST-MODIFIED:20250811T195140Z
UID:5960-1755712800-1755721800@lakemarcel.net
SUMMARY:Harris\, Beach 1 - Shelter reservation
DESCRIPTION:
URL:https://lakemarcel.net/event/harris-beach-1-shelter-reservation/
LOCATION:Beach1 Picnic Shelter
CATEGORIES:Reservation
END:VEVENT
END:VCALENDAR